BEGIN:VCALENDAR
VERSION:2.0
PRODID:-//Ask Your Powerful Question - ECPv6.15.20//NONSGML v1.0//EN
CALSCALE:GREGORIAN
METHOD:PUBLISH
X-ORIGINAL-URL:https://askyourpowerfulquestion.com
X-WR-CALDESC:Events for Ask Your Powerful Question
REFRESH-INTERVAL;VALUE=DURATION:PT1H
X-Robots-Tag:noindex
X-PUBLISHED-TTL:PT1H
BEGIN:VTIMEZONE
TZID:America/Chicago
BEGIN:DAYLIGHT
TZOFFSETFROM:-0600
TZOFFSETTO:-0500
TZNAME:CDT
DTSTART:20180311T080000
END:DAYLIGHT
BEGIN:STANDARD
TZOFFSETFROM:-0500
TZOFFSETTO:-0600
TZNAME:CST
DTSTART:20181104T070000
END:STANDARD
BEGIN:DAYLIGHT
TZOFFSETFROM:-0600
TZOFFSETTO:-0500
TZNAME:CDT
DTSTART:20190310T080000
END:DAYLIGHT
BEGIN:STANDARD
TZOFFSETFROM:-0500
TZOFFSETTO:-0600
TZNAME:CST
DTSTART:20191103T070000
END:STANDARD
BEGIN:DAYLIGHT
TZOFFSETFROM:-0600
TZOFFSETTO:-0500
TZNAME:CDT
DTSTART:20200308T080000
END:DAYLIGHT
BEGIN:STANDARD
TZOFFSETFROM:-0500
TZOFFSETTO:-0600
TZNAME:CST
DTSTART:20201101T070000
END:STANDARD
BEGIN:DAYLIGHT
TZOFFSETFROM:-0600
TZOFFSETTO:-0500
TZNAME:CDT
DTSTART:20210314T080000
END:DAYLIGHT
BEGIN:STANDARD
TZOFFSETFROM:-0500
TZOFFSETTO:-0600
TZNAME:CST
DTSTART:20211107T070000
END:STANDARD
BEGIN:DAYLIGHT
TZOFFSETFROM:-0600
TZOFFSETTO:-0500
TZNAME:CDT
DTSTART:20220313T080000
END:DAYLIGHT
BEGIN:STANDARD
TZOFFSETFROM:-0500
TZOFFSETTO:-0600
TZNAME:CST
DTSTART:20221106T070000
END:STANDARD
BEGIN:DAYLIGHT
TZOFFSETFROM:-0600
TZOFFSETTO:-0500
TZNAME:CDT
DTSTART:20230312T080000
END:DAYLIGHT
BEGIN:STANDARD
TZOFFSETFROM:-0500
TZOFFSETTO:-0600
TZNAME:CST
DTSTART:20231105T070000
END:STANDARD
BEGIN:DAYLIGHT
TZOFFSETFROM:-0600
TZOFFSETTO:-0500
TZNAME:CDT
DTSTART:20240310T080000
END:DAYLIGHT
BEGIN:STANDARD
TZOFFSETFROM:-0500
TZOFFSETTO:-0600
TZNAME:CST
DTSTART:20241103T070000
END:STANDARD
END:VTIMEZONE
BEGIN:VEVENT
DTSTART;TZID=America/Chicago:20231219T173000
DTEND;TZID=America/Chicago:20231219T183000
DTSTAMP:20260423T101126
CREATED:20230428T143658Z
LAST-MODIFIED:20230428T161327Z
UID:1975-1703007000-1703010600@askyourpowerfulquestion.com
SUMMARY:MONTHLY DISCUSSION – CONTINUING THE JOURNEY
DESCRIPTION:On the third Tuesday at 5:30 PM Central Time / 6:30 PM Eastern Time of each month\, Dr. John Olesnavage will host a group discussion for anyone who has found their powerful question through one of our retreats or workshops. This discussion is designed for those who would like to share their reflections and progress. To join in the discussion via ZOOM\, please send an email to johnolesnavage@gmail.com to receive your invitation. This is a FREE event. All that is required is just a sincere desire to continue the journey.
URL:https://askyourpowerfulquestion.com/event/monthly-discussion-continuing-the-journey-7/
ORGANIZER;CN="Dr. John Olesnavage":MAILTO:johnolesnavage@gmail.com
END:VEVENT
BEGIN:VEVENT
DTSTART;TZID=America/Chicago:20231121T173000
DTEND;TZID=America/Chicago:20231121T183000
DTSTAMP:20260423T101126
CREATED:20230428T143616Z
LAST-MODIFIED:20230428T161438Z
UID:1972-1700587800-1700591400@askyourpowerfulquestion.com
SUMMARY:MONTHLY DISCUSSION – CONTINUING THE JOURNEY
DESCRIPTION:On the third Tuesday at 5:30 PM Central Time / 6:30 PM Eastern Time of each month\, Dr. John Olesnavage will host a group discussion for anyone who has found their powerful question through one of our retreats or workshops. This discussion is designed for those who would like to share their reflections and progress. To join in the discussion via ZOOM\, please send an email to johnolesnavage@gmail.com to receive your invitation. This is a FREE event. All that is required is just a sincere desire to continue the journey.
URL:https://askyourpowerfulquestion.com/event/monthly-discussion-continuing-the-journey-6/
ORGANIZER;CN="Dr. John Olesnavage":MAILTO:johnolesnavage@gmail.com
END:VEVENT
BEGIN:VEVENT
DTSTART;TZID=America/Chicago:20231017T173000
DTEND;TZID=America/Chicago:20231017T183000
DTSTAMP:20260423T101126
CREATED:20230428T143523Z
LAST-MODIFIED:20230428T161941Z
UID:1969-1697563800-1697567400@askyourpowerfulquestion.com
SUMMARY:MONTHLY DISCUSSION – CONTINUING THE JOURNEY
DESCRIPTION:On the third Tuesday at 5:30 PM Central Time / 6:30 PM Eastern Time of each month\, Dr. John Olesnavage will host a group discussion for anyone who has found their powerful question through one of our retreats or workshops. This discussion is designed for those who would like to share their reflections and progress. To join in the discussion via ZOOM\, please send an email to johnolesnavage@gmail.com to receive your invitation. This is a FREE event. All that is required is just a sincere desire to continue the journey.
URL:https://askyourpowerfulquestion.com/event/monthly-discussion-continuing-the-journey-5/
ORGANIZER;CN="Dr. John Olesnavage":MAILTO:johnolesnavage@gmail.com
END:VEVENT
BEGIN:VEVENT
DTSTART;TZID=America/Chicago:20230919T173000
DTEND;TZID=America/Chicago:20230919T183000
DTSTAMP:20260423T101126
CREATED:20230428T143438Z
LAST-MODIFIED:20230428T161956Z
UID:1966-1695144600-1695148200@askyourpowerfulquestion.com
SUMMARY:MONTHLY DISCUSSION – CONTINUING THE JOURNEY
DESCRIPTION:On the third Tuesday at 5:30 PM Central Time / 6:30 PM Eastern Time of each month\, Dr. John Olesnavage will host a group discussion for anyone who has found their powerful question through one of our retreats or workshops. This discussion is designed for those who would like to share their reflections and progress. To join in the discussion via ZOOM\, please send an email to johnolesnavage@gmail.com to receive your invitation. This is a FREE event. All that is required is just a sincere desire to continue the journey.
URL:https://askyourpowerfulquestion.com/event/monthly-discussion-continuing-the-journey-4/
ORGANIZER;CN="Dr. John Olesnavage":MAILTO:johnolesnavage@gmail.com
END:VEVENT
BEGIN:VEVENT
DTSTART;TZID=America/Chicago:20230815T173000
DTEND;TZID=America/Chicago:20230815T183000
DTSTAMP:20260423T101126
CREATED:20230428T143359Z
LAST-MODIFIED:20230428T143359Z
UID:1963-1692120600-1692124200@askyourpowerfulquestion.com
SUMMARY:MONTHLY DISCUSSION – CONTINUING THE JOURNEY
DESCRIPTION:On the third Tuesday of at 5:30 PM Central Time / 6:30 PM Eastern Time of each month\, Dr. John Olesnavage will host a group discussion for anyone who has found their powerful question through one of our retreats or workshops.  This discussion is designed for those who would like to share their reflections and progress.  To join in the discussion via ZOOM\, please send an email to johnolesnavage@gmail.com to receive your invitation. This is a FREE event.  All that is required is just a sincere desire to continue the journey.
URL:https://askyourpowerfulquestion.com/event/monthly-discussion-continuing-the-journey-3/
ORGANIZER;CN="Dr. John Olesnavage":MAILTO:johnolesnavage@gmail.com
END:VEVENT
BEGIN:VEVENT
DTSTART;TZID=America/Chicago:20230718T173000
DTEND;TZID=America/Chicago:20230718T183000
DTSTAMP:20260423T101126
CREATED:20230428T143315Z
LAST-MODIFIED:20230428T143315Z
UID:1960-1689701400-1689705000@askyourpowerfulquestion.com
SUMMARY:MONTHLY DISCUSSION – CONTINUING THE JOURNEY
DESCRIPTION:On the third Tuesday of at 5:30 PM Central Time / 6:30 PM Eastern Time of each month\, Dr. John Olesnavage will host a group discussion for anyone who has found their powerful question through one of our retreats or workshops.  This discussion is designed for those who would like to share their reflections and progress.  To join in the discussion via ZOOM\, please send an email to johnolesnavage@gmail.com to receive your invitation. This is a FREE event.  All that is required is just a sincere desire to continue the journey.
URL:https://askyourpowerfulquestion.com/event/monthly-discussion-continuing-the-journey-2/
ORGANIZER;CN="Dr. John Olesnavage":MAILTO:johnolesnavage@gmail.com
END:VEVENT
BEGIN:VEVENT
DTSTART;TZID=America/Chicago:20230613T173000
DTEND;TZID=America/Chicago:20230613T183000
DTSTAMP:20260423T101126
CREATED:20230428T143228Z
LAST-MODIFIED:20230428T162010Z
UID:1957-1686677400-1686681000@askyourpowerfulquestion.com
SUMMARY:MONTHLY DISCUSSION – CONTINUING THE JOURNEY
DESCRIPTION:On the third Tuesday at 5:30 PM Central Time / 6:30 PM Eastern Time of each month\, Dr. John Olesnavage will host a group discussion for anyone who has found their powerful question through one of our retreats or workshops. This discussion is designed for those who would like to share their reflections and progress. To join in the discussion via ZOOM\, please send an email to johnolesnavage@gmail.com to receive your invitation. This is a FREE event. All that is required is just a sincere desire to continue the journey.
URL:https://askyourpowerfulquestion.com/event/monthly-discussion-continuing-the-journey/
ORGANIZER;CN="Dr. John Olesnavage":MAILTO:johnolesnavage@gmail.com
END:VEVENT
BEGIN:VEVENT
DTSTART;VALUE=DATE:20230610
DTEND;VALUE=DATE:20230611
DTSTAMP:20260423T101126
CREATED:20230126T183418Z
LAST-MODIFIED:20230126T183457Z
UID:1871-1686355200-1686441599@askyourpowerfulquestion.com
SUMMARY:Powerful Question Information Booth
DESCRIPTION:Saturday\, June 10\, 2023\, John will be participating in\, and hosting a Powerful Question information booth\, at the Upper Peninsula Eucharistic Congress organized by the Catholic Diocese of Marquette. It will be held at the famous Yooperdome in Marquette\, MI. Stop by and say hi!
URL:https://askyourpowerfulquestion.com/event/powerful-question-information-booth/
ORGANIZER;CN="Dr. John Olesnavage":MAILTO:johnolesnavage@gmail.com
END:VEVENT
BEGIN:VEVENT
DTSTART;TZID=America/Chicago:20230516T173000
DTEND;TZID=America/Chicago:20230516T183000
DTSTAMP:20260423T101126
CREATED:20230427T202632Z
LAST-MODIFIED:20230428T162028Z
UID:1950-1684258200-1684261800@askyourpowerfulquestion.com
SUMMARY:MONTHLY DISCUSSION – CONTINUING THE JOURNEY
DESCRIPTION:On the third Tuesday at 5:30 PM Central Time / 6:30 PM Eastern Time of each month\, Dr. John Olesnavage will host a group discussion for anyone who has found their powerful question through one of our retreats or workshops. This discussion is designed for those who would like to share their reflections and progress. To join in the discussion via ZOOM\, please send an email to johnolesnavage@gmail.com to receive your invitation. This is a FREE event. All that is required is just a sincere desire to continue the journey.
URL:https://askyourpowerfulquestion.com/event/monthly-discussion-continuing-the-journe/
ORGANIZER;CN="Dr. John Olesnavage":MAILTO:johnolesnavage@gmail.com
END:VEVENT
BEGIN:VEVENT
DTSTART;TZID=America/Chicago:20230418T170000
DTEND;TZID=America/Chicago:20230418T180000
DTSTAMP:20260423T101126
CREATED:20230303T003915Z
LAST-MODIFIED:20230303T003915Z
UID:1925-1681837200-1681840800@askyourpowerfulquestion.com
SUMMARY:PQ Zoom Call
DESCRIPTION:Please contact me at johnolesnavage@gmail.com if you would like to join in. No charge\, just a sincere desire to continue the journey.
URL:https://askyourpowerfulquestion.com/event/pq-zoom-call/
END:VEVENT
BEGIN:VEVENT
DTSTART;TZID=America/Chicago:20221014T160000
DTEND;TZID=America/Chicago:20221016T113000
DTSTAMP:20260423T101126
CREATED:20220413T232607Z
LAST-MODIFIED:20220522T213638Z
UID:1574-1665763200-1665919800@askyourpowerfulquestion.com
SUMMARY:A Most Powerful Question Retreat
DESCRIPTION:SAVE THE DATE\nOctober 14 -16\, 2022\nSt. Augustine Center\nConway\, MI\nCo – Facilitated by Dr. John & Joe Olesnavage\nSee events page for further details / Sign-up
URL:https://askyourpowerfulquestion.com/event/powerful-question-and-ignatius-reflection-retreat/
LOCATION:St. Augustine Center\, 2798 US-31\, Conway\, MI\, 49722\, United States
ORGANIZER;CN="Dr. John Olesnavage":MAILTO:johnolesnavage@gmail.com
END:VEVENT
BEGIN:VEVENT
DTSTART;TZID=America/Chicago:20220409T080000
DTEND;TZID=America/Chicago:20220409T150000
DTSTAMP:20260423T101126
CREATED:20220211T203135Z
LAST-MODIFIED:20220324T135059Z
UID:1462-1649491200-1649516400@askyourpowerfulquestion.com
SUMMARY:Advanced Lay Servant Course - Finding Your Powerful Question within Your Spiritual Gifts (Two-Day Workshop) - Day 2 of 2
DESCRIPTION:During this ecumenical workshop you will join with others seeking to find their inner truth and purpose in God’s plan.  Using interactive dialogue\, learning materials\, a workbook and examples\, this workshop will equip you with the tools to discover your Powerful Question with your spiritual gifts\, become a more enlightened spiritual leader and move you to a more God-centered way of life.   \nThis workshop is being sponsored and hosted by the Lay Ministry Committee of the Northeast District – Circuit 12 of the Wisconsin Conference of the United Methodist Church and is offered as part of the Advanced Lay Servant Ministries series. All Christian faith traditions are welcome.
URL:https://askyourpowerfulquestion.com/event/advanced-lay-servant-course-finding-your-powerful-question-within-your-spiritual-gifts/
LOCATION:Faith United Methodist Church\, 633 Detroit Street\, Sheboygan Falls\, Wisconsin
ORGANIZER;CN="Joe Hilke":MAILTO:joehilke@gmail.com
END:VEVENT
BEGIN:VEVENT
DTSTART;TZID=America/Chicago:20220402T090000
DTEND;TZID=America/Chicago:20220402T150000
DTSTAMP:20260423T101126
CREATED:20220211T202252Z
LAST-MODIFIED:20220324T134946Z
UID:1452-1648890000-1648911600@askyourpowerfulquestion.com
SUMMARY:Advanced Lay Servant Course - Finding Your Powerful Question within Your Spiritual Gifts (Two-Day Workshop) - Day 1 of 2
DESCRIPTION:During this ecumenical workshop you will join with others seeking to find their inner truth and purpose in God’s plan.  Using interactive dialogue\, learning materials\, a workbook and examples\, this workshop will equip you with the tools to discover your Powerful Question with your spiritual gifts\, become a more enlightened spiritual leader and move you to a more God-centered way of life.   \nThis workshop is being sponsored and hosted by the Lay Ministry Committee of the Northeast District – Circuit 12 of the Wisconsin Conference of the United Methodist Church and is offered as part of the Advanced Lay Servant Ministries series. All Christian faith traditions are welcome.
URL:https://askyourpowerfulquestion.com/event/advanced-lay-servant-course-finding-your-powerful-question-within-your-spiritual-gifts-two-day-workshop-day-1-of-2/
LOCATION:Faith United Methodist Church\, 633 Detroit Street\, Sheboygan Falls\, Wisconsin
ORGANIZER;CN="Joe Hilke":MAILTO:joehilke@gmail.com
END:VEVENT
BEGIN:VEVENT
DTSTART;TZID=America/Chicago:20210821T110000
DTEND;TZID=America/Chicago:20210821T160000
DTSTAMP:20260423T101126
CREATED:20210627T160638Z
LAST-MODIFIED:20210627T160638Z
UID:1199-1629543600-1629561600@askyourpowerfulquestion.com
SUMMARY:Living Into Your Powerful Question - Summer Gathering
DESCRIPTION:
URL:https://askyourpowerfulquestion.com/event/living-into-your-powerful-question-summer-gathering/
LOCATION:Sacred Heart Seminary and School of Theology\, 7335 S. Lovers Lane Rd.\, Franklin\, WI\, 53132\, United States
END:VEVENT
BEGIN:VEVENT
DTSTART;TZID=America/Chicago:20191010T180000
DTEND;TZID=America/Chicago:20191010T200000
DTSTAMP:20260423T101126
CREATED:20191008T135838Z
LAST-MODIFIED:20191008T135838Z
UID:996-1570730400-1570737600@askyourpowerfulquestion.com
SUMMARY:Powerful Question Meeting - Class #1
DESCRIPTION:The first class for finding your Powerful Question will be held at First Fruits in Elm Grove from 6:00 – 8:00 pm. Please remember to bring your $150.00 registration fee. Thank you\, and I look forward to seeing you on Thursday! \nFirst Fruits address: \n890 Elm Grove Rd\, Elm Grove\, WI 53122
URL:https://askyourpowerfulquestion.com/event/powerful-question-meeting-class-1/
END:VEVENT
BEGIN:VEVENT
DTSTART;TZID=America/Chicago:20190919T180000
DTEND;TZID=America/Chicago:20190919T200000
DTSTAMP:20260423T101126
CREATED:20190716T125221Z
LAST-MODIFIED:20190716T125221Z
UID:947-1568916000-1568923200@askyourpowerfulquestion.com
SUMMARY:My Powerful Question - September Introductory Workshop
DESCRIPTION:September 2019 Powerful Question Workshop \nParticipants will begin their journey to a Powerful Question. This will include group and individual processes with Dr. John Olesnavage\, author of “Ask* your Powerful Question.” This introduction is for both men and women. \nPowerful Questions have helped entrepreneurs\, artists\, spiritual seekers\, and people in many walks of life discover their inner truth and purpose. Will you be next? \nTo Register: email: dialogical2004@yahoo.com \nCost: Free \nAbout the presenter\, Dr. John Olesnavage: Dr. Olesnavage is the Vice President for Pastoral Formation and Director of Human Formation at Sacred Heart Seminary and School of Theology in Hales Corners\, WI.
URL:https://askyourpowerfulquestion.com/event/my-powerful-question-september-introductory-workshop/
LOCATION:Firstfruits Faith Center\, 890 Elm Grove Road\, Elm Grove\, WI\, 53122\, United States
ORGANIZER;CN="Jenny D.":MAILTO:jdrzewiecki@shsst.edu
END:VEVENT
BEGIN:VEVENT
DTSTART;TZID=America/Chicago:20190627T180000
DTEND;TZID=America/Chicago:20190627T203000
DTSTAMP:20260423T101126
CREATED:20150601T033700Z
LAST-MODIFIED:20190621T150232Z
UID:443-1561658400-1561667400@askyourpowerfulquestion.com
SUMMARY:First Small Group Session  - Follow Up from What Do You Desire Most?
DESCRIPTION:The first of the four small group sessions derived from the What Do You Desire Most? session will be at Firstfruits in Elm Grove on Thursday\, June 27th from 6:00 pm – 8:30 pm. Get ready to continue on this marvelous journey of finding your Powerful Question! \n\n\n\n\n\n\nFor questions\, please contact Dr. John at dialogical2004@yahoo.com\n\n\n\n\n\n\n\n\n\n\n\n\n\n\n\n\n\n\n\n\n\n\n\n 
URL:https://askyourpowerfulquestion.com/event/annual-festival-week/
LOCATION:Firstfruits Faith Center\, 890 Elm Grove Road\, Elm Grove\, WI\, 53122\, United States
CATEGORIES:Seminar
ORGANIZER;CN="Jenny D.":MAILTO:jdrzewiecki@shsst.edu
END:VEVENT
BEGIN:VEVENT
DTSTART;TZID=America/Chicago:20190615T130000
DTEND;TZID=America/Chicago:20190615T160000
DTSTAMP:20260423T101126
CREATED:20190521T235935Z
LAST-MODIFIED:20190521T235935Z
UID:534-1560603600-1560614400@askyourpowerfulquestion.com
SUMMARY:What Do You Desire Most?
DESCRIPTION:June 2019 Powerful Question Seminar \nParticipants will begin their journey to a Powerful Question. This will include group and individual processes with Dr. John Olesnavage\, author of “Ask* your Powerful Question.” This introduction is for both men and women. \nPowerful Questions have helped entrepreneurs\, artists\, spiritual seekers\, and people in many walks of life discover their inner truth and purpose. Will you be next? \nTo Register: email: powerfulquestioninstitute@gmail.com or call Monica at 414-232-2395 \nCost: Free if registered by June 10\, 2019 \nAbout the presenter\, Dr. John Olesnavage: Dr. Olesnavage is the Vice President for Pastoral Formation and Director of Human Formation at Sacred Heart Seminary and School of Theology in Hales Corners\, WI. \n 
URL:https://askyourpowerfulquestion.com/event/what-do-you-desire-most/
LOCATION:Firstfruits Faith Center\, 890 Elm Grove Road\, Elm Grove\, WI\, 53122\, United States
CATEGORIES:Seminar
END:VEVENT
END:VCALENDAR